BEGIN:VCALENDAR
VERSION:2.0
PRODID:icalendar-ruby
CALSCALE:GREGORIAN
METHOD:PUBLISH
BEGIN:VEVENT
DTSTAMP:20260420T192806Z
UID:9-1276557@greaternewsalem.com
DTSTART:20261028T130000Z
DTEND:20261028T140000Z
CLASS:PUBLIC
CREATED:20260420T095841
DESCRIPTION:For Prayer Request\, contact Eunice Griffith Peppers at EuniceE
 LG@Yahoo.com\; Subject Line: PRAYER REQUEST
LAST-MODIFIED:20260420T095841
LOCATION:Main Sanctuary:  9524 South San Pedro\, LA CA 90003
SUMMARY:Intercessory Prayer
URL;VALUE=URI:https://greaternewsalem.com/events/intercessory-prayer/2026-1
 0-28
ATTACH;FILENAME=sundayservice-20.jpg;FMTTYPE=image/jpeg:https://dq5pwpg1q8r
 u0.cloudfront.net/2023/12/28/23/55/11/791c3729-ea89-49d5-b64f-dc69112db634
 /sundayservice-20.jpg
END:VEVENT
END:VCALENDAR
